BEGIN:VCALENDAR
VERSION:2.0
PRODID:-//Philleigh Way Cookery School - ECPv6.15.20//NONSGML v1.0//EN
CALSCALE:GREGORIAN
METHOD:PUBLISH
X-ORIGINAL-URL:https://www.philleighway.co.uk
X-WR-CALDESC:Events for Philleigh Way Cookery School
REFRESH-INTERVAL;VALUE=DURATION:PT1H
X-Robots-Tag:noindex
X-PUBLISHED-TTL:PT1H
BEGIN:VTIMEZONE
TZID:UTC
BEGIN:STANDARD
TZOFFSETFROM:+0000
TZOFFSETTO:+0000
TZNAME:UTC
DTSTART:20250101T000000
END:STANDARD
END:VTIMEZONE
BEGIN:VEVENT
DTSTART;TZID=UTC:20260515T160000
DTEND;TZID=UTC:20260515T190000
DTSTAMP:20260419T130427
CREATED:20240806T143748Z
LAST-MODIFIED:20260216T113256Z
UID:10000498-1778860800-1778871600@www.philleighway.co.uk
SUMMARY:Taste of Tuscany
DESCRIPTION:Taste of Tuscany is a great place to socialise\, have a glass of wine and learn something new along the way. \n\n\n\nThese short evening courses are based all around Italian food values……. simplicity. Whether it’s a wild mushroom pappardelle or pea & mint risotto\, you’ll find out that less\, really is more. \n\n\n\nEnjoy the 3 1/2 hour class with dinner & glass of wine\, with plenty of time to hop on the ferry home! \n\n\n\nCourse Overview \n\n\n\nDuration: 4:00pm – 7:00pm \n\n\n\nTutors: Head Tutor – Rupert Cooper \n\n\n\nMaximum student to tutor ratio: 8-1 \n\n\n\nWelcome: Meet Rupert and see for yourself the Philleigh Way farmhouse cookery school and garden. \n\n\n\nThe Day: The course includes demonstrations and practical sessions\, with a 2 course dinner provided\, along with a crisp glass of wine (you deserve it!). \n\n\n\nClose: Have a chat with fellow course attendees and members of the Philleigh Way team. This is a guide to the evenings activities / menu and may vary depending on the season as well as the group’s interest. \n\n\n\nSample dishes \n\n\n\nPanzanella \n\n\n\nCaponata \n\n\n\nMinestrone \n\n\n\nWild mushroom Pappardelle \n\n\n\nCalamari & Aioli \n\n\n\nGrilled Sardines with Salsa Verde \n\n\n\nPan fried Gnocchi with Italian sausage \n\n\n\nSkills \n\n\n\nPan frying \n\n\n\nPasta \n\n\n\nBread \n\n\n\nDressings \n\n\n\nAge suitability: 16+ or 13+ if accompanied by a paying adult. \n\n\n\nCLICK HERE TO BOOK YOUR PLACE
URL:https://www.philleighway.co.uk/event/taste-of-tuscany/2026-05-15/
LOCATION:Philleigh Way Cookery School\, Court Farm\, Philleigh\, Cornwall\, TR2 5NB\, United Kingdom
CATEGORIES:Courses
ATTACH;FMTTYPE=image/jpeg:https://www.philleighway.co.uk/wp-content/uploads/2020/08/Adam-Banks-Chef-Interview-pasta-box-delivery-web-soc.jpg
END:VEVENT
END:VCALENDAR